BEGIN:VCALENDAR
VERSION:2.0
PRODID:-//Sci Club Brissago - ECPv6.0.6.2//NONSGML v1.0//EN
CALSCALE:GREGORIAN
METHOD:PUBLISH
X-WR-CALNAME:Sci Club Brissago
X-ORIGINAL-URL:http://sciclubbrissago.ch
X-WR-CALDESC:Eventi per Sci Club Brissago
REFRESH-INTERVAL;VALUE=DURATION:PT1H
X-Robots-Tag:noindex
X-PUBLISHED-TTL:PT1H
BEGIN:VTIMEZONE
TZID:Europe/Rome
BEGIN:DAYLIGHT
TZOFFSETFROM:+0100
TZOFFSETTO:+0200
TZNAME:CEST
DTSTART:20260329T010000
END:DAYLIGHT
BEGIN:STANDARD
TZOFFSETFROM:+0200
TZOFFSETTO:+0100
TZNAME:CET
DTSTART:20261025T010000
END:STANDARD
END:VTIMEZONE
BEGIN:VEVENT
DTSTART;VALUE=DATE:20260307
DTEND;VALUE=DATE:20260308
DTSTAMP:20260425T185701
CREATED:20230104T101040Z
LAST-MODIFIED:20251124T085029Z
UID:1428-1772841600-1772927999@sciclubbrissago.ch
SUMMARY:Quarta uscita
DESCRIPTION:Programma: \n\n\n\nOre 7:30: partenza da Piazza Municipio a Brissago (trasferta in torpedone)\n9:30-16:00: si scia\n16:00: partenza per il viaggio di rientro\n\n\n\nCosto: \n\n\n\nBambini e ragazzi fino a 17 anni: 30.- Fr\nAdulti: 70.- Fr\n\n\n\nin formula ALL INCLUSIVE (trasferta\, giornaliera e pranzo) \nIscrizione \n\n\n\nVia mail: sciclubbrissago@gmail.com\nDal sito compilando l’apposito modulo d’iscrizione
URL:http://sciclubbrissago.ch/event/uscita-a-splugen-2/
LOCATION:Da definire
CATEGORIES:Uscita singola
END:VEVENT
END:VCALENDAR